BEGIN:VCALENDAR
VERSION:2.0
PRODID:GIGPRESS 2.0 WORDPRESS PLUGIN
CALSCALE:GREGORIAN
X-WR-TIMEZONE:Etc/GMT
METHOD:PUBLISH
BEGIN:VTIMEZONE
TZID:GMT
BEGIN:STANDARD
DTSTART:20071028T010000
TZOFFSETTO:+0000
TZOFFSETFROM:+0000
END:STANDARD
END:VTIMEZONE
BEGIN:VEVENT
SUMMARY:- at Blaisdell Arena
DESCRIPTION:Tour: Earth\, Wind & Fire. 
LOCATION:Blaisdell Arena\, Honolulu\, US
UID:20260613-832-admin@earthwindandfire.com
URL:http://www.earthwindandfire.com/tour/
DTSTART;VALUE=DATE;TZID=GMT:20260613
DTEND;VALUE=DATE;TZID=GMT:20260613
DTSTAMP:20260424T083649Z
END:VEVENT
END:VCALENDAR